BEGIN:VCALENDAR
VERSION:2.0
PRODID:-//ChamberMaster//Event Calendar 2.0//EN
METHOD:PUBLISH
X-PUBLISHED-TTL:P3D
REFRESH-INTERVAL:P3D
CALSCALE:GREGORIAN
BEGIN:VEVENT
DTSTART:20240604T140000Z
DTEND:20240604T170000Z
X-MICROSOFT-CDO-ALLDAYEVENT:FALSE
SUMMARY:Pint Sized Science
DESCRIPTION:Cover a wide variety of STEM activities learning about sound\, motion\, and nature. Lunch is not provided. Cost: $20 (Youth only pay $10 due to sponsorship from the St. Charles Library) https://form.jotform.com/240526612071144
X-ALT-DESC;FMTTYPE=text/html:Cover a wide variety of STEM activities learning about sound\, motion\, and nature. Lunch is not provided. Cost: $20 (Youth only pay $10 due to sponsorship from the St. Charles Library) https://form.jotform.com/240526612071144
LOCATION:Saint Charles Library
UID:e.2010.2510
SEQUENCE:3
DTSTAMP:20260422T174748Z
URL:http://madisoncounty.chambermaster.com/events/details/pint-sized-science-2510
END:VEVENT

END:VCALENDAR
